Package: procoil Version: 2.20.0 Command: rm -rf procoil.buildbin-libdir && mkdir procoil.buildbin-libdir && /Users/biocbuild/BBS/utils/build-universal.sh procoil_2.20.0.tar.gz /Library/Frameworks/R.framework/Versions/Current/Resources/bin/R procoil.buildbin-libdir StartedAt: 2021-10-15 03:32:23 -0400 (Fri, 15 Oct 2021) EndedAt: 2021-10-15 03:33:33 -0400 (Fri, 15 Oct 2021) EllapsedTime: 69.6 seconds RetCode: 0 Status: OK PackageFile: procoil_2.20.0.tgz PackageFileSize: 1.643 MiB