Package: procoil Version: 2.20.0 Command: /Library/Frameworks/R.framework/Versions/Current/Resources/bin/R CMD check --install=check:procoil.install-out.txt --library=/Library/Frameworks/R.framework/Versions/Current/Resources/library --no-vignettes --timings procoil_2.20.0.tar.gz StartedAt: 2021-10-14 22:32:37 -0400 (Thu, 14 Oct 2021) EndedAt: 2021-10-14 22:35:25 -0400 (Thu, 14 Oct 2021) EllapsedTime: 167.9 seconds RetCode: 0 Status: OK CheckDir: procoil.Rcheck Warnings: 0