git_url: https://git.bioconductor.org/packages/projectR git_branch: RELEASE_3_13 git_last_commit: c86e61e git_last_commit_date: 2021-05-19 12:42:08 -0400 (Wed, 19 May 2021) Package: projectR Version: 1.8.0 Maintainer: Genevieve Stein-O'Brien MaintainerEmail: gsteinobrien at gmail.com