Package: projectR Version: 1.8.0 Command: rm -rf projectR.buildbin-libdir && mkdir projectR.buildbin-libdir && /Users/biocbuild/BBS/utils/build-universal.sh projectR_1.8.0.tar.gz /Library/Frameworks/R.framework/Versions/Current/Resources/bin/R projectR.buildbin-libdir StartedAt: 2021-10-15 03:32:55 -0400 (Fri, 15 Oct 2021) EndedAt: 2021-10-15 03:34:05 -0400 (Fri, 15 Oct 2021) EllapsedTime: 69.6 seconds RetCode: 0 Status: OK PackageFile: projectR_1.8.0.tgz PackageFileSize: 1.021 MiB