Package: projectR Version: 1.8.0 Command: /Library/Frameworks/R.framework/Versions/Current/Resources/bin/R CMD build --keep-empty-dirs --no-resave-data projectR StartedAt: 2021-10-14 14:04:33 -0400 (Thu, 14 Oct 2021) EndedAt: 2021-10-14 14:05:24 -0400 (Thu, 14 Oct 2021) EllapsedTime: 50.5 seconds RetCode: 0 Status: OK PackageFile: projectR_1.8.0.tar.gz PackageFileSize: 861.5 KiB