Package: projectR Version: 1.8.0 Command: /home/biocbuild/bbs-3.13-bioc/R/bin/R CMD INSTALL projectR StartedAt: 2021-10-14 06:19:36 -0400 (Thu, 14 Oct 2021) EndedAt: 2021-10-14 06:20:00 -0400 (Thu, 14 Oct 2021) EllapsedTime: 24.4 seconds RetCode: 0 Status: OK