Package: psichomics Version: 1.18.6 Command: /home/biocbuild/bbs-3.13-bioc/R/bin/R CMD build --keep-empty-dirs --no-resave-data psichomics StartedAt: 2021-10-14 08:04:32 -0400 (Thu, 14 Oct 2021) EndedAt: 2021-10-14 08:06:38 -0400 (Thu, 14 Oct 2021) EllapsedTime: 125.7 seconds RetCode: 0 Status: OK PackageFile: psichomics_1.18.6.tar.gz PackageFileSize: 6.044 MiB