Package: psichomics Version: 1.18.6 Command: /home/biocbuild/bbs-3.13-bioc/R/bin/R CMD check --install=check:psichomics.install-out.txt --library=/home/biocbuild/bbs-3.13-bioc/R/library --no-vignettes --timings psichomics_1.18.6.tar.gz StartedAt: 2021-10-14 11:08:32 -0400 (Thu, 14 Oct 2021) EndedAt: 2021-10-14 11:16:02 -0400 (Thu, 14 Oct 2021) EllapsedTime: 450.0 seconds RetCode: 0 Status: OK CheckDir: psichomics.Rcheck Warnings: 0