Package: ptairMS Version: 1.0.1 Command: /home/biocbuild/bbs-3.13-bioc/R/bin/R CMD build --keep-empty-dirs --no-resave-data ptairMS StartedAt: 2021-10-14 08:04:41 -0400 (Thu, 14 Oct 2021) EndedAt: 2021-10-14 08:07:53 -0400 (Thu, 14 Oct 2021) EllapsedTime: 192.3 seconds RetCode: 0 Status: OK PackageFile: ptairMS_1.0.1.tar.gz PackageFileSize: 3.087 MiB