Package: ptairMS Version: 1.0.1 Command: /home/biocbuild/bbs-3.13-bioc/R/bin/R CMD check --install=check:ptairMS.install-out.txt --library=/home/biocbuild/bbs-3.13-bioc/R/library --no-vignettes --timings ptairMS_1.0.1.tar.gz StartedAt: 2021-10-14 11:08:41 -0400 (Thu, 14 Oct 2021) EndedAt: 2021-10-14 11:15:49 -0400 (Thu, 14 Oct 2021) EllapsedTime: 428.1 seconds RetCode: 0 Status: OK CheckDir: ptairMS.Rcheck Warnings: 0