Package: pulsedSilac Version: 1.6.0 Command: chmod a+r pulsedSilac -R && C:\Users\biocbuild\bbs-3.13-bioc\R\bin\R.exe CMD build --keep-empty-dirs --no-resave-data pulsedSilac StartedAt: 2021-10-14 17:15:24 -0400 (Thu, 14 Oct 2021) EndedAt: 2021-10-14 17:17:56 -0400 (Thu, 14 Oct 2021) EllapsedTime: 152.3 seconds RetCode: 0 Status: OK PackageFile: pulsedSilac_1.6.0.tar.gz PackageFileSize: 1.942 MiB