Package: puma Version: 3.34.0 Command: rm -rf puma.buildbin-libdir && mkdir puma.buildbin-libdir && /Users/biocbuild/BBS/utils/build-universal.sh puma_3.34.0.tar.gz /Library/Frameworks/R.framework/Versions/Current/Resources/bin/R puma.buildbin-libdir StartedAt: 2021-10-15 03:34:31 -0400 (Fri, 15 Oct 2021) EndedAt: 2021-10-15 03:35:35 -0400 (Fri, 15 Oct 2021) EllapsedTime: 64.0 seconds RetCode: 0 Status: OK PackageFile: puma_3.34.0.tgz PackageFileSize: 3.962 MiB