Package: puma Version: 3.34.0 Command: /Library/Frameworks/R.framework/Versions/Current/Resources/bin/R CMD build --keep-empty-dirs --no-resave-data puma StartedAt: 2021-10-14 14:06:54 -0400 (Thu, 14 Oct 2021) EndedAt: 2021-10-14 14:08:43 -0400 (Thu, 14 Oct 2021) EllapsedTime: 108.6 seconds RetCode: 0 Status: OK PackageFile: puma_3.34.0.tar.gz PackageFileSize: 3.274 MiB