Package: puma Version: 3.34.0 Command: /Library/Frameworks/R.framework/Versions/Current/Resources/bin/R CMD check --install=check:puma.install-out.txt --library=/Library/Frameworks/R.framework/Versions/Current/Resources/library --no-vignettes --timings puma_3.34.0.tar.gz StartedAt: 2021-10-14 22:40:06 -0400 (Thu, 14 Oct 2021) EndedAt: 2021-10-14 22:46:22 -0400 (Thu, 14 Oct 2021) EllapsedTime: 376.0 seconds RetCode: 0 Status: WARNINGS CheckDir: puma.Rcheck Warnings: 1