Package: puma Version: 3.34.0 Command: /Library/Frameworks/R.framework/Versions/Current/Resources/bin/R CMD INSTALL puma StartedAt: 2021-10-14 09:11:25 -0400 (Thu, 14 Oct 2021) EndedAt: 2021-10-14 09:12:18 -0400 (Thu, 14 Oct 2021) EllapsedTime: 53.6 seconds RetCode: 0 Status: OK