Package: puma Version: 3.34.0 Command: /home/biocbuild/bbs-3.13-bioc/R/bin/R CMD build --keep-empty-dirs --no-resave-data puma StartedAt: 2021-10-14 08:04:48 -0400 (Thu, 14 Oct 2021) EndedAt: 2021-10-14 08:06:14 -0400 (Thu, 14 Oct 2021) EllapsedTime: 86.1 seconds RetCode: 0 Status: OK PackageFile: puma_3.34.0.tar.gz PackageFileSize: 3.257 MiB