Package: puma Version: 3.34.0 Command: rm -rf puma.buildbin-libdir && mkdir puma.buildbin-libdir && C:\Users\biocbuild\bbs-3.13-bioc\R\bin\R.exe CMD INSTALL --merge-multiarch --build --library=puma.buildbin-libdir puma_3.34.0.tar.gz StartedAt: 2021-10-15 11:08:11 -0400 (Fri, 15 Oct 2021) EndedAt: 2021-10-15 11:09:35 -0400 (Fri, 15 Oct 2021) EllapsedTime: 83.7 seconds RetCode: 0 Status: OK PackageFile: puma_3.34.0.zip PackageFileSize: 4.156 MiB