Package: puma Version: 3.34.0 Command: chmod a+r puma -R && C:\Users\biocbuild\bbs-3.13-bioc\R\bin\R.exe CMD build --keep-empty-dirs --no-resave-data puma StartedAt: 2021-10-14 17:15:39 -0400 (Thu, 14 Oct 2021) EndedAt: 2021-10-14 17:17:40 -0400 (Thu, 14 Oct 2021) EllapsedTime: 120.3 seconds RetCode: 0 Status: OK PackageFile: puma_3.34.0.tar.gz PackageFileSize: 3.257 MiB