git_url: https://git.bioconductor.org/packages/pvac git_branch: RELEASE_3_13 git_last_commit: 2500206 git_last_commit_date: 2021-05-19 11:47:24 -0400 (Wed, 19 May 2021) Package: pvac Version: 1.40.0 Maintainer: Jun Lu , Pierre R. Bushel MaintainerEmail: bushel at niehs.nih.gov