Package: pvac Version: 1.40.0 Command: C:\cygwin\bin\curl.exe -O http://155.52.207.165/BBS/3.13/bioc/src/contrib/pvac_1.40.0.tar.gz && rm -rf pvac.buildbin-libdir && mkdir pvac.buildbin-libdir && C:\Users\biocbuild\bbs-3.13-bioc\R\bin\R.exe CMD INSTALL --merge-multiarch --build --library=pvac.buildbin-libdir pvac_1.40.0.tar.gz && C:\Users\biocbuild\bbs-3.13-bioc\R\bin\R.exe CMD INSTALL pvac_1.40.0.zip && rm pvac_1.40.0.tar.gz pvac_1.40.0.zip StartedAt: 2021-10-14 07:52:16 -0400 (Thu, 14 Oct 2021) EndedAt: 2021-10-14 07:53:11 -0400 (Thu, 14 Oct 2021) EllapsedTime: 55.4 seconds RetCode: 0 Status: OK