git_url: https://git.bioconductor.org/packages/qckitfastq git_branch: RELEASE_3_13 git_last_commit: 6e68a18 git_last_commit_date: 2021-05-19 12:41:43 -0400 (Wed, 19 May 2021) Package: qckitfastq Version: 1.8.0 Maintainer: August Guang MaintainerEmail: august.guang at gmail.com