git_url: https://git.bioconductor.org/packages/qpcrNorm git_branch: RELEASE_3_13 git_last_commit: 9538a20 git_last_commit_date: 2021-05-19 11:42:58 -0400 (Wed, 19 May 2021) Package: qpcrNorm Version: 1.50.0 Maintainer: Jessica Mar MaintainerEmail: jess at jimmy.harvard.edu