Package: qpcrNorm Version: 1.50.0 Command: rm -rf qpcrNorm.buildbin-libdir && mkdir qpcrNorm.buildbin-libdir && C:\Users\biocbuild\bbs-3.13-bioc\R\bin\R.exe CMD INSTALL --merge-multiarch --build --library=qpcrNorm.buildbin-libdir qpcrNorm_1.50.0.tar.gz StartedAt: 2021-10-15 11:09:54 -0400 (Fri, 15 Oct 2021) EndedAt: 2021-10-15 11:11:24 -0400 (Fri, 15 Oct 2021) EllapsedTime: 90.7 seconds RetCode: 0 Status: OK PackageFile: qpcrNorm_1.50.0.zip PackageFileSize: 562.8 KiB