git_url: https://git.bioconductor.org/packages/qpgraph git_branch: RELEASE_3_13 git_last_commit: 80062b5 git_last_commit_date: 2021-05-19 11:42:31 -0400 (Wed, 19 May 2021) Package: qpgraph Version: 2.26.0 Maintainer: Robert Castelo MaintainerEmail: robert.castelo at upf.edu