Package: qpgraph Version: 2.26.0 Command: /Library/Frameworks/R.framework/Versions/Current/Resources/bin/R CMD check --install=check:qpgraph.install-out.txt --library=/Library/Frameworks/R.framework/Versions/Current/Resources/library --no-vignettes --timings qpgraph_2.26.0.tar.gz StartedAt: 2021-10-14 22:44:10 -0400 (Thu, 14 Oct 2021) EndedAt: 2021-10-14 22:50:13 -0400 (Thu, 14 Oct 2021) EllapsedTime: 363.5 seconds RetCode: 0 Status: WARNINGS CheckDir: qpgraph.Rcheck Warnings: 1