Package: qpgraph Version: 2.26.0 Command: /home/biocbuild/bbs-3.13-bioc/R/bin/R CMD build --keep-empty-dirs --no-resave-data qpgraph StartedAt: 2021-10-14 08:06:36 -0400 (Thu, 14 Oct 2021) EndedAt: 2021-10-14 08:08:33 -0400 (Thu, 14 Oct 2021) EllapsedTime: 117.0 seconds RetCode: 0 Status: OK PackageFile: qpgraph_2.26.0.tar.gz PackageFileSize: 2.649 MiB