Package: qpgraph Version: 2.26.0 Command: chmod a+r qpgraph -R && C:\Users\biocbuild\bbs-3.13-bioc\R\bin\R.exe CMD build --keep-empty-dirs --no-resave-data qpgraph StartedAt: 2021-10-14 17:19:05 -0400 (Thu, 14 Oct 2021) EndedAt: 2021-10-14 17:21:43 -0400 (Thu, 14 Oct 2021) EllapsedTime: 157.7 seconds RetCode: 0 Status: OK PackageFile: qpgraph_2.26.0.tar.gz PackageFileSize: 2.647 MiB