Package: qrqc Version: 1.46.0 Command: rm -rf qrqc.buildbin-libdir && mkdir qrqc.buildbin-libdir && /Users/biocbuild/BBS/utils/build-universal.sh qrqc_1.46.0.tar.gz /Library/Frameworks/R.framework/Versions/Current/Resources/bin/R qrqc.buildbin-libdir StartedAt: 2021-10-15 03:35:51 -0400 (Fri, 15 Oct 2021) EndedAt: 2021-10-15 03:36:55 -0400 (Fri, 15 Oct 2021) EllapsedTime: 63.9 seconds RetCode: 0 Status: OK PackageFile: qrqc_1.46.0.tgz PackageFileSize: 768.1 KiB