Package: qrqc Version: 1.46.0 Command: /Library/Frameworks/R.framework/Versions/Current/Resources/bin/R CMD check --install=check:qrqc.install-out.txt --library=/Library/Frameworks/R.framework/Versions/Current/Resources/library --no-vignettes --timings qrqc_1.46.0.tar.gz StartedAt: 2021-10-14 22:44:27 -0400 (Thu, 14 Oct 2021) EndedAt: 2021-10-14 22:51:46 -0400 (Thu, 14 Oct 2021) EllapsedTime: 439.3 seconds RetCode: 0 Status: WARNINGS CheckDir: qrqc.Rcheck Warnings: 1