Package: qrqc Version: 1.46.0 Command: C:\cygwin\bin\curl.exe -O http://155.52.207.165/BBS/3.13/bioc/src/contrib/qrqc_1.46.0.tar.gz && rm -rf qrqc.buildbin-libdir && mkdir qrqc.buildbin-libdir && C:\Users\biocbuild\bbs-3.13-bioc\R\bin\R.exe CMD INSTALL --merge-multiarch --build --library=qrqc.buildbin-libdir qrqc_1.46.0.tar.gz && C:\Users\biocbuild\bbs-3.13-bioc\R\bin\R.exe CMD INSTALL qrqc_1.46.0.zip && rm qrqc_1.46.0.tar.gz qrqc_1.46.0.zip StartedAt: 2021-10-14 10:50:37 -0400 (Thu, 14 Oct 2021) EndedAt: 2021-10-14 10:52:08 -0400 (Thu, 14 Oct 2021) EllapsedTime: 91.3 seconds RetCode: 0 Status: OK