Package: quantiseqr Version: 1.0.0 Command: /home/biocbuild/bbs-3.13-bioc/R/bin/R CMD build --keep-empty-dirs --no-resave-data quantiseqr StartedAt: 2021-10-14 08:07:13 -0400 (Thu, 14 Oct 2021) EndedAt: 2021-10-14 08:08:12 -0400 (Thu, 14 Oct 2021) EllapsedTime: 59.4 seconds RetCode: 0 Status: OK PackageFile: quantiseqr_1.0.0.tar.gz PackageFileSize: 3.314 MiB