Package: rDGIdb Version: 1.18.0 Command: rm -rf rDGIdb.buildbin-libdir && mkdir rDGIdb.buildbin-libdir && /Users/biocbuild/BBS/utils/build-universal.sh rDGIdb_1.18.0.tar.gz /Library/Frameworks/R.framework/Versions/Current/Resources/bin/R rDGIdb.buildbin-libdir StartedAt: 2021-10-15 03:40:25 -0400 (Fri, 15 Oct 2021) EndedAt: 2021-10-15 03:41:35 -0400 (Fri, 15 Oct 2021) EllapsedTime: 70.5 seconds RetCode: 0 Status: OK PackageFile: rDGIdb_1.18.0.tgz PackageFileSize: 221.2 KiB