Package: rDGIdb Version: 1.18.0 Command: /Library/Frameworks/R.framework/Versions/Current/Resources/bin/R CMD check --install=check:rDGIdb.install-out.txt --library=/Library/Frameworks/R.framework/Versions/Current/Resources/library --no-vignettes --timings rDGIdb_1.18.0.tar.gz StartedAt: 2021-10-14 22:56:56 -0400 (Thu, 14 Oct 2021) EndedAt: 2021-10-14 22:58:27 -0400 (Thu, 14 Oct 2021) EllapsedTime: 90.4 seconds RetCode: 0 Status: OK CheckDir: rDGIdb.Rcheck Warnings: 0