Package: rDGIdb Version: 1.18.0 Command: /home/biocbuild/bbs-3.13-bioc/R/bin/R CMD build --keep-empty-dirs --no-resave-data rDGIdb StartedAt: 2021-10-14 08:09:48 -0400 (Thu, 14 Oct 2021) EndedAt: 2021-10-14 08:10:16 -0400 (Thu, 14 Oct 2021) EllapsedTime: 27.6 seconds RetCode: 0 Status: OK PackageFile: rDGIdb_1.18.0.tar.gz PackageFileSize: 179.4 KiB