Package: rDGIdb Version: 1.18.0 Command: chmod a+r rDGIdb -R && C:\Users\biocbuild\bbs-3.13-bioc\R\bin\R.exe CMD build --keep-empty-dirs --no-resave-data rDGIdb StartedAt: 2021-10-14 17:28:33 -0400 (Thu, 14 Oct 2021) EndedAt: 2021-10-14 17:29:18 -0400 (Thu, 14 Oct 2021) EllapsedTime: 45.8 seconds RetCode: 0 Status: OK PackageFile: rDGIdb_1.18.0.tar.gz PackageFileSize: 179 KiB