git_url: https://git.bioconductor.org/packages/rGADEM git_branch: RELEASE_3_13 git_last_commit: 3d0cf8b git_last_commit_date: 2021-05-19 11:44:46 -0400 (Wed, 19 May 2021) Package: rGADEM Version: 2.40.0 Maintainer: Arnaud Droit MaintainerEmail: arnaud.droit at crchuq.ulaval.ca