Package: rGADEM Version: 2.40.0 Command: /Library/Frameworks/R.framework/Versions/Current/Resources/bin/R CMD INSTALL rGADEM StartedAt: 2021-10-14 09:55:37 -0400 (Thu, 14 Oct 2021) EndedAt: 2021-10-14 09:56:25 -0400 (Thu, 14 Oct 2021) EllapsedTime: 47.8 seconds RetCode: 0 Status: OK