Package: rGADEM Version: 2.40.0 Command: /home/biocbuild/bbs-3.13-bioc/R/bin/R CMD build --keep-empty-dirs --no-resave-data rGADEM StartedAt: 2021-10-14 08:11:37 -0400 (Thu, 14 Oct 2021) EndedAt: 2021-10-14 08:12:58 -0400 (Thu, 14 Oct 2021) EllapsedTime: 80.5 seconds RetCode: 0 Status: OK PackageFile: rGADEM_2.40.0.tar.gz PackageFileSize: 256.4 KiB