Package: rGADEM Version: 2.40.0 Command: chmod a+r rGADEM -R && C:\Users\biocbuild\bbs-3.13-bioc\R\bin\R.exe CMD build --keep-empty-dirs --no-resave-data rGADEM StartedAt: 2021-10-14 17:33:53 -0400 (Thu, 14 Oct 2021) EndedAt: 2021-10-14 17:36:19 -0400 (Thu, 14 Oct 2021) EllapsedTime: 146.4 seconds RetCode: 0 Status: OK PackageFile: rGADEM_2.40.0.tar.gz PackageFileSize: 272.9 KiB