Package: rTRM Version: 1.30.0 Command: /Library/Frameworks/R.framework/Versions/Current/Resources/bin/R CMD build --keep-empty-dirs --no-resave-data rTRM StartedAt: 2021-10-14 14:34:51 -0400 (Thu, 14 Oct 2021) EndedAt: 2021-10-14 14:35:55 -0400 (Thu, 14 Oct 2021) EllapsedTime: 63.8 seconds RetCode: 0 Status: OK PackageFile: rTRM_1.30.0.tar.gz PackageFileSize: 3.167 MiB