Package: rTRMui Version: 1.30.0 Command: /home/biocbuild/bbs-3.13-bioc/R/bin/R CMD check --install=check:rTRMui.install-out.txt --library=/home/biocbuild/bbs-3.13-bioc/R/library --no-vignettes --timings rTRMui_1.30.0.tar.gz StartedAt: 2021-10-14 11:26:40 -0400 (Thu, 14 Oct 2021) EndedAt: 2021-10-14 11:30:29 -0400 (Thu, 14 Oct 2021) EllapsedTime: 229.5 seconds RetCode: 0 Status: OK CheckDir: rTRMui.Rcheck Warnings: 0