Package: rWikiPathways Version: 1.12.0 Command: rm -rf rWikiPathways.buildbin-libdir && mkdir rWikiPathways.buildbin-libdir && /Users/biocbuild/BBS/utils/build-universal.sh rWikiPathways_1.12.0.tar.gz /Library/Frameworks/R.framework/Versions/Current/Resources/bin/R rWikiPathways.buildbin-libdir StartedAt: 2021-10-15 03:51:12 -0400 (Fri, 15 Oct 2021) EndedAt: 2021-10-15 03:52:13 -0400 (Fri, 15 Oct 2021) EllapsedTime: 60.8 seconds RetCode: 0 Status: OK PackageFile: rWikiPathways_1.12.0.tgz PackageFileSize: 2.781 MiB