Package: rWikiPathways Version: 1.12.0 Command: /home/biocbuild/bbs-3.13-bioc/R/bin/R CMD build --keep-empty-dirs --no-resave-data rWikiPathways StartedAt: 2021-10-14 08:17:36 -0400 (Thu, 14 Oct 2021) EndedAt: 2021-10-14 08:17:46 -0400 (Thu, 14 Oct 2021) EllapsedTime: 10.3 seconds RetCode: 0 Status: OK PackageFile: rWikiPathways_1.12.0.tar.gz PackageFileSize: 10.33 MiB