Package: rWikiPathways Version: 1.12.0 Command: C:\Users\biocbuild\bbs-3.13-bioc\R\bin\R.exe CMD check --force-multiarch --install=check:rWikiPathways.install-out.txt --library=C:\Users\biocbuild\bbs-3.13-bioc\R\library --no-vignettes --timings rWikiPathways_1.12.0.tar.gz StartedAt: 2021-10-15 05:00:24 -0400 (Fri, 15 Oct 2021) EndedAt: 2021-10-15 05:04:10 -0400 (Fri, 15 Oct 2021) EllapsedTime: 225.4 seconds RetCode: 0 Status: OK CheckDir: rWikiPathways.Rcheck Warnings: 0