Package: rain Version: 1.26.0 Command: /home/biocbuild/bbs-3.13-bioc/R/bin/R CMD check --install=check:rain.install-out.txt --library=/home/biocbuild/bbs-3.13-bioc/R/library --no-vignettes --timings rain_1.26.0.tar.gz StartedAt: 2021-10-14 11:13:15 -0400 (Thu, 14 Oct 2021) EndedAt: 2021-10-14 11:14:02 -0400 (Thu, 14 Oct 2021) EllapsedTime: 46.9 seconds RetCode: 0 Status: OK CheckDir: rain.Rcheck Warnings: 0