Package: rain Version: 1.26.0 Command: C:\cygwin\bin\curl.exe -O http://155.52.207.165/BBS/3.13/bioc/src/contrib/rain_1.26.0.tar.gz && rm -rf rain.buildbin-libdir && mkdir rain.buildbin-libdir && C:\Users\biocbuild\bbs-3.13-bioc\R\bin\R.exe CMD INSTALL --merge-multiarch --build --library=rain.buildbin-libdir rain_1.26.0.tar.gz && C:\Users\biocbuild\bbs-3.13-bioc\R\bin\R.exe CMD INSTALL rain_1.26.0.zip && rm rain_1.26.0.tar.gz rain_1.26.0.zip StartedAt: 2021-10-14 07:40:42 -0400 (Thu, 14 Oct 2021) EndedAt: 2021-10-14 07:41:17 -0400 (Thu, 14 Oct 2021) EllapsedTime: 34.9 seconds RetCode: 0 Status: OK