Package: rawrr Version: 1.0.3 Command: /home/biocbuild/bbs-3.13-bioc/R/bin/R CMD build --keep-empty-dirs --no-resave-data rawrr StartedAt: 2021-10-14 08:08:24 -0400 (Thu, 14 Oct 2021) EndedAt: 2021-10-14 08:08:59 -0400 (Thu, 14 Oct 2021) EllapsedTime: 34.1 seconds RetCode: 0 Status: OK PackageFile: rawrr_1.0.3.tar.gz PackageFileSize: 1.597 MiB