Package: rawrr Version: 1.0.3 Command: /home/biocbuild/bbs-3.13-bioc/R/bin/R CMD check --install=check:rawrr.install-out.txt --library=/home/biocbuild/bbs-3.13-bioc/R/library --no-vignettes --timings rawrr_1.0.3.tar.gz StartedAt: 2021-10-14 11:14:12 -0400 (Thu, 14 Oct 2021) EndedAt: 2021-10-14 11:15:17 -0400 (Thu, 14 Oct 2021) EllapsedTime: 65.3 seconds RetCode: 0 Status: OK CheckDir: rawrr.Rcheck Warnings: 0