Package: rawrr Version: 1.0.3 Command: chmod a+r rawrr -R && C:\Users\biocbuild\bbs-3.13-bioc\R\bin\R.exe CMD build --keep-empty-dirs --no-resave-data rawrr StartedAt: 2021-10-14 17:24:29 -0400 (Thu, 14 Oct 2021) EndedAt: 2021-10-14 17:25:55 -0400 (Thu, 14 Oct 2021) EllapsedTime: 85.8 seconds RetCode: 0 Status: OK PackageFile: rawrr_1.0.3.tar.gz PackageFileSize: 1.288 MiB