Package: rawrr Version: 1.0.3 Command: C:\Users\biocbuild\bbs-3.13-bioc\R\bin\R.exe CMD check --force-multiarch --install=check:rawrr.install-out.txt --library=C:\Users\biocbuild\bbs-3.13-bioc\R\library --no-vignettes --timings rawrr_1.0.3.tar.gz StartedAt: 2021-10-15 04:07:21 -0400 (Fri, 15 Oct 2021) EndedAt: 2021-10-15 04:11:24 -0400 (Fri, 15 Oct 2021) EllapsedTime: 242.3 seconds RetCode: 0 Status: OK CheckDir: rawrr.Rcheck Warnings: 0